BEGIN:VCALENDAR
VERSION:2.0
PRODID:-//larsklint.com - ECPv6.9.0//NONSGML v1.0//EN
CALSCALE:GREGORIAN
METHOD:PUBLISH
X-WR-CALNAME:larsklint.com
X-ORIGINAL-URL:https://larsklint.com
X-WR-CALDESC:Events for larsklint.com
REFRESH-INTERVAL;VALUE=DURATION:PT1H
X-Robots-Tag:noindex
X-PUBLISHED-TTL:PT1H
BEGIN:VTIMEZONE
TZID:UTC
BEGIN:STANDARD
TZOFFSETFROM:+0000
TZOFFSETTO:+0000
TZNAME:UTC
DTSTART:20220101T000000
END:STANDARD
END:VTIMEZONE
BEGIN:VEVENT
DTSTART;VALUE=DATE:20220928
DTEND;VALUE=DATE:20221001
DTSTAMP:20260419T214910
CREATED:20220607T004159Z
LAST-MODIFIED:20220607T004159Z
UID:1843-1664323200-1664582399@larsklint.com
SUMMARY:NDC Oslo - Norway
DESCRIPTION:
URL:https://larsklint.com/event/ndc-oslo-norway/
LOCATION:Oslo Spektrum\, Sonja Henies plass 2\, Oslo\, 0185\, Norway
END:VEVENT
END:VCALENDAR