BEGIN:VCALENDAR
VERSION:2.0
PRODID:-//larsklint.com - ECPv6.9.0//NONSGML v1.0//EN
CALSCALE:GREGORIAN
METHOD:PUBLISH
X-WR-CALNAME:larsklint.com
X-ORIGINAL-URL:https://larsklint.com
X-WR-CALDESC:Events for larsklint.com
REFRESH-INTERVAL;VALUE=DURATION:PT1H
X-Robots-Tag:noindex
X-PUBLISHED-TTL:PT1H
BEGIN:VTIMEZONE
TZID:UTC
BEGIN:STANDARD
TZOFFSETFROM:+0000
TZOFFSETTO:+0000
TZNAME:UTC
DTSTART:20170101T000000
END:STANDARD
END:VTIMEZONE
BEGIN:VEVENT
DTSTART;VALUE=DATE:20200610
DTEND;VALUE=DATE:20200613
DTSTAMP:20260420T072018
CREATED:20200421T023751Z
LAST-MODIFIED:20200421T024148Z
UID:1510-1591747200-1592006399@larsklint.com
SUMMARY:NDC Oslo Online
DESCRIPTION:
URL:https://larsklint.com/event/ndc-oslo-online/
END:VEVENT
BEGIN:VEVENT
DTSTART;VALUE=DATE:20200512
DTEND;VALUE=DATE:20200513
DTSTAMP:20260420T072018
CREATED:20200423T014819Z
LAST-MODIFIED:20200423T014819Z
UID:1515-1589241600-1589327999@larsklint.com
SUMMARY:Dev Around The Sun - COVID-19 Fundraiser
DESCRIPTION:
URL:https://larsklint.com/event/dev-around-the-sun-covid-19-fundraiser/
END:VEVENT
BEGIN:VEVENT
DTSTART;VALUE=DATE:20200213
DTEND;VALUE=DATE:20200215
DTSTAMP:20260420T072018
CREATED:20200206T010653Z
LAST-MODIFIED:20200206T021752Z
UID:1476-1581552000-1581724799@larsklint.com
SUMMARY:Microsoft Ignite The Tour - Sydney
DESCRIPTION:
URL:https://larsklint.com/event/microsoft-ignite-the-tour-sydney/
END:VEVENT
BEGIN:VEVENT
DTSTART;VALUE=DATE:20200127
DTEND;VALUE=DATE:20200201
DTSTAMP:20260420T072018
CREATED:20191228T134144Z
LAST-MODIFIED:20191228T134144Z
UID:1428-1580083200-1580515199@larsklint.com
SUMMARY:NDC London 2020
DESCRIPTION:I am giving a talk and a 2-day Azure workshop.
URL:https://larsklint.com/event/ndc-london-2020/
LOCATION:Queen Elizabeth II Centre\, Broad Sanctuary\, Westminster\, London\, SW1P 3EE\, United Kingdom
END:VEVENT
BEGIN:VEVENT
DTSTART;VALUE=DATE:20191212
DTEND;VALUE=DATE:20191214
DTSTAMP:20260420T072018
CREATED:20190819T233501Z
LAST-MODIFIED:20190819T233501Z
UID:1364-1576108800-1576281599@larsklint.com
SUMMARY:YOW! Melbourne 2019
DESCRIPTION:
URL:https://larsklint.com/event/yow-melbourne-2019/
LOCATION:Melbourne Convention and Exhibition Centre\, 1 Convention Centre Pl\, South Wharf\, Victoria\, 3006\, Australia
END:VEVENT
BEGIN:VEVENT
DTSTART;VALUE=DATE:20191129
DTEND;VALUE=DATE:20191130
DTSTAMP:20260420T072018
CREATED:20190626T221003Z
LAST-MODIFIED:20190626T221003Z
UID:1359-1574985600-1575071999@larsklint.com
SUMMARY:T-Conf
DESCRIPTION:
URL:https://larsklint.com/event/t-conf/
LOCATION:Swinburne Hawthorn\, 425 Burwood Rd\, Hawthorn\, Victoria\, 3122\, Australia
END:VEVENT
BEGIN:VEVENT
DTSTART;VALUE=DATE:20191123
DTEND;VALUE=DATE:20191124
DTSTAMP:20260420T072018
CREATED:20191110T155121Z
LAST-MODIFIED:20191110T155121Z
UID:1413-1574467200-1574553599@larsklint.com
SUMMARY:DDD Adelaide 2019
DESCRIPTION:I am giving the keynote with a brand new talk: Rise of the Machines – Technology in Humanity.
URL:https://larsklint.com/event/ddd-adelaide-2019/
LOCATION:MOD.\, University of South Australia\, North Terrace\, adjacent Morphett Street Bridge\, Adelaide\, South Australia\, 5000\, Australia
END:VEVENT
BEGIN:VEVENT
DTSTART;VALUE=DATE:20191104
DTEND;VALUE=DATE:20191109
DTSTAMP:20260420T072018
CREATED:20190901T104919Z
LAST-MODIFIED:20190901T104919Z
UID:1393-1572825600-1573257599@larsklint.com
SUMMARY:Microsoft Ignite 2019
DESCRIPTION:
URL:https://larsklint.com/event/microsoft-ignite-2019/
LOCATION:Orange County Convention Center\, 9800 International Drive\, Orlando\, FL\, 32819\, United States
END:VEVENT
BEGIN:VEVENT
DTSTART;VALUE=DATE:20190829
DTEND;VALUE=DATE:20190830
DTSTAMP:20260420T072018
CREATED:20190626T220055Z
LAST-MODIFIED:20190626T220055Z
UID:1354-1567036800-1567123199@larsklint.com
SUMMARY:ServerlessDays Melbourne
DESCRIPTION:
URL:https://larsklint.com/event/serverlessdays-melbourne/
LOCATION:Melbourne Museum\, 11 Nicholson St\, Carlton\, Victoria\, 3053\, Australia
END:VEVENT
BEGIN:VEVENT
DTSTART;VALUE=DATE:20190810
DTEND;VALUE=DATE:20190811
DTSTAMP:20260420T072018
CREATED:20190626T215713Z
LAST-MODIFIED:20190626T215713Z
UID:1351-1565395200-1565481599@larsklint.com
SUMMARY:DDD Melbourne 2019
DESCRIPTION:
URL:https://larsklint.com/event/ddd-melbourne-2019/
LOCATION:Melbourne Convention and Exhibition Centre\, 1 Convention Centre Pl\, South Wharf\, Victoria\, 3006\, Australia
END:VEVENT
BEGIN:VEVENT
DTSTART;VALUE=DATE:20190803
DTEND;VALUE=DATE:20190804
DTSTAMP:20260420T072018
CREATED:20190626T215053Z
LAST-MODIFIED:20190626T215053Z
UID:1348-1564790400-1564876799@larsklint.com
SUMMARY:DDD Perth 2019
DESCRIPTION:
URL:https://larsklint.com/event/ddd-perth-2019/
LOCATION:Perth Convention and Exhibition Centre\, 21 Mounts Bay Road\, Perth\, Western Australia\, 6000\, Australia
END:VEVENT
BEGIN:VEVENT
DTSTART;VALUE=DATE:20190617
DTEND;VALUE=DATE:20190622
DTSTAMP:20260420T072018
CREATED:20190118T100323Z
LAST-MODIFIED:20190118T100323Z
UID:1341-1560729600-1561161599@larsklint.com
SUMMARY:NDC Oslo
DESCRIPTION:I will once again be part of this amazing event. The best developer conference in the World!
URL:https://larsklint.com/event/ndc-oslo/
LOCATION:Oslo Spektrum\, Sonja Henies plass 2\, Oslo\, 0185\, Norway
END:VEVENT
BEGIN:VEVENT
DTSTART;VALUE=DATE:20190427
DTEND;VALUE=DATE:20190428
DTSTAMP:20260420T072018
CREATED:20190407T230023Z
LAST-MODIFIED:20190407T230023Z
UID:1344-1556323200-1556409599@larsklint.com
SUMMARY:Global Azure Bootcamp
DESCRIPTION:
URL:https://larsklint.com/event/global-azure-bootcamp/
LOCATION:Swinburne Hawthorn\, 425 Burwood Rd\, Hawthorn\, Victoria\, 3122\, Australia
END:VEVENT
BEGIN:VEVENT
DTSTART;VALUE=DATE:20181215
DTEND;VALUE=DATE:20181216
DTSTAMP:20260420T072018
CREATED:20181126T211635Z
LAST-MODIFIED:20181126T211635Z
UID:1339-1544832000-1544918399@larsklint.com
SUMMARY:Global AI Bootcamp
DESCRIPTION:
URL:https://larsklint.com/event/global-ai-bootcamp/
LOCATION:Microsoft Melbourne\, 4 Freshwater Place\, Southbank\, Victoria\, 3006\, Australia
END:VEVENT
BEGIN:VEVENT
DTSTART;VALUE=DATE:20181123
DTEND;VALUE=DATE:20181124
DTSTAMP:20260420T072018
CREATED:20180529T011453Z
LAST-MODIFIED:20180529T011453Z
UID:1310-1542931200-1543017599@larsklint.com
SUMMARY:TConf 2018
DESCRIPTION:“We created TConf to bring industry leaders and community together\, to share the challenges and solutions to complex quality problems in the industry. We have a strong desire to advance the Quality function. We believe in the importance of these fundamentals\, a good software tester is also a good engineer\, communicator\, pragmatic thinker and above all problem solver.”
URL:https://larsklint.com/event/tconf-2018/
LOCATION:Swinburne Hawthorn\, 425 Burwood Rd\, Hawthorn\, Victoria\, 3122\, Australia
END:VEVENT
BEGIN:VEVENT
DTSTART;TZID=UTC:20181114T180000
DTEND;TZID=UTC:20181114T210000
DTSTAMP:20260420T072018
CREATED:20181025T220617Z
LAST-MODIFIED:20181025T220617Z
UID:1336-1542218400-1542229200@larsklint.com
SUMMARY:Azure DevOps Community Launch
DESCRIPTION:
URL:https://larsklint.com/event/azure-devops-community-launch/
LOCATION:Microsoft Melbourne\, 4 Freshwater Place\, Southbank\, Victoria\, 3006\, Australia
END:VEVENT
BEGIN:VEVENT
DTSTART;VALUE=DATE:20181005
DTEND;VALUE=DATE:20181006
DTSTAMP:20260420T072018
CREATED:20180807T113218Z
LAST-MODIFIED:20180807T113218Z
UID:1328-1538697600-1538783999@larsklint.com
SUMMARY:DUUGFest 2018
DESCRIPTION:I will be presenting a brand new talk for this one day event.
URL:https://larsklint.com/event/duugfest-2018/
LOCATION:Frabique – De smederij\, Westkanaaldijk 7\, Utrecht\, 3542\, Netherlands
END:VEVENT
BEGIN:VEVENT
DTSTART;VALUE=DATE:20181001
DTEND;VALUE=DATE:20181004
DTSTAMP:20260420T072018
CREATED:20180720T221137Z
LAST-MODIFIED:20180720T221137Z
UID:1323-1538352000-1538611199@larsklint.com
SUMMARY:Techorama NL 2018
DESCRIPTION:The first Techorama in The Netherlands.
URL:https://larsklint.com/event/techorama-nl-2018/
LOCATION:Pathé Ede\, Laan der Verenigde Naties 150\, JE Ede\, 6716\, Netherlands
END:VEVENT
BEGIN:VEVENT
DTSTART;VALUE=DATE:20180928
DTEND;VALUE=DATE:20181001
DTSTAMP:20260420T072018
CREATED:20180601T062909Z
LAST-MODIFIED:20180601T062909Z
UID:1314-1538092800-1538351999@larsklint.com
SUMMARY:IT Arena
DESCRIPTION:IT Arena is a three-day event jam-packed with progressive ideas from global change makers and the most inspiring thinkers. It is a place to meet trustworthy partners and learn about bold innovations that can transform businesses. It is the best platform for structured and informal networking that leaves plenty of space for entertainment!
URL:https://larsklint.com/event/it-arena/
LOCATION:Arena Lviv Stadium\, Stryiska St\, 199\, Lviv\, Lviv Oblast\, 79000\, Ukraine
END:VEVENT
BEGIN:VEVENT
DTSTART;VALUE=DATE:20180917
DTEND;VALUE=DATE:20180922
DTSTAMP:20260420T072018
CREATED:20180407T014742Z
LAST-MODIFIED:20180407T014742Z
UID:1290-1537142400-1537574399@larsklint.com
SUMMARY:NDC Sydney 2018
DESCRIPTION:
URL:https://larsklint.com/event/ndc-sydney-2018/
LOCATION:Hilton Hotel\, Sydney\, NSW\, 2000\, Australia
END:VEVENT
BEGIN:VEVENT
DTSTART;VALUE=DATE:20180712
DTEND;VALUE=DATE:20180714
DTSTAMP:20260420T072018
CREATED:20180416T071938Z
LAST-MODIFIED:20180416T071938Z
UID:1295-1531353600-1531526399@larsklint.com
SUMMARY:KCDC 2018
DESCRIPTION:I am giving two talks on progressive web apps and ARCore for Android.
URL:https://larsklint.com/event/kcdc-2018/
LOCATION:Kansas City Convention Center\, 301 West 13th Street\, Kansas City\, MO\, 64105\, United States
END:VEVENT
BEGIN:VEVENT
DTSTART;VALUE=DATE:20180622
DTEND;VALUE=DATE:20180623
DTSTAMP:20260420T072018
CREATED:20180529T011224Z
LAST-MODIFIED:20180529T011224Z
UID:1307-1529625600-1529711999@larsklint.com
SUMMARY:Insider Dev Tour - Sydney
DESCRIPTION:
URL:https://larsklint.com/event/insider-dev-tour-sydney/
LOCATION:Microsoft Sydney\, 1 Epping Road\, North Ryde\, New South Wales\, 2113\, Australia
END:VEVENT
BEGIN:VEVENT
DTSTART;VALUE=DATE:20180507
DTEND;VALUE=DATE:20180511
DTSTAMP:20260420T072018
CREATED:20180131T221301Z
LAST-MODIFIED:20180131T221301Z
UID:1252-1525651200-1525996799@larsklint.com
SUMMARY:NDC Minnesota 2018
DESCRIPTION:I am doing a brand new talk on ARCore development.
URL:https://larsklint.com/event/ndc-minnesota-2018/
LOCATION:Saint Paul RiverCentre\, 175 W Kellogg Blvd\, St Paul\, MN\, 55102\, United States
END:VEVENT
BEGIN:VEVENT
DTSTART;VALUE=DATE:20180504
DTEND;VALUE=DATE:20180505
DTSTAMP:20260420T072018
CREATED:20180223T001549Z
LAST-MODIFIED:20180223T001549Z
UID:1391-1525392000-1525478399@larsklint.com
SUMMARY:Stir Trek 2018
DESCRIPTION:I will be giving my extremely well received Cozmo talk\, making him to all sorts of shenanigans.
URL:https://larsklint.com/event/stir-trek-2018/
LOCATION:Nokia Camera Grip – Excel Your Mobile Photography with Lumia 1020
END:VEVENT
BEGIN:VEVENT
DTSTART;TZID=UTC:20180424T180000
DTEND;TZID=UTC:20180424T203000
DTSTAMP:20260420T072018
CREATED:20180325T221550Z
LAST-MODIFIED:20180325T221550Z
UID:1392-1524592800-1524601800@larsklint.com
SUMMARY:Melbourne Holographic - ARCore Talk
DESCRIPTION:How can augmented reality really make a difference and be more than a gimmick? How can you build captivating\, engaging and relevant augmented experiences that can reach your users without breaking the bank? \nLearn to use Google’s ARCore framework to build augmented reality apps for 100s of millions of devices. Get hands on with code and the various tools you can use to create ARCore experiences\, before we build a full simple app to run on Android.\nFind the best way to get started taking advantage of augmented experiences by leveraging the amazing technology that is ARCore.
URL:https://larsklint.com/event/melbourne-holographic-arcore-talk/
LOCATION:Hosting a New Tech Show – The Future of Tech
END:VEVENT
BEGIN:VEVENT
DTSTART;TZID=UTC:20180315T180000
DTEND;TZID=UTC:20180315T213000
DTSTAMP:20260420T072018
CREATED:20180131T223710Z
LAST-MODIFIED:20180131T223710Z
UID:1255-1521136800-1521149400@larsklint.com
SUMMARY:DDD By Night
DESCRIPTION:
URL:https://larsklint.com/event/ddd-by-night-2/
LOCATION:Page Up Office\, 10/91 William St\, Melbourne\, Victoria\, 3000\, Australia
END:VEVENT
BEGIN:VEVENT
DTSTART;VALUE=DATE:20171201
DTEND;VALUE=DATE:20171204
DTSTAMP:20260420T072018
CREATED:20170810T201356Z
LAST-MODIFIED:20170810T201356Z
UID:1164-1512086400-1512345599@larsklint.com
SUMMARY:Buzzconf 2017
DESCRIPTION:I am doing a mixed reality workshop on the Friday\, as well as a VR session on the Saturday.
URL:https://larsklint.com/event/buzzconf-2017/
END:VEVENT
BEGIN:VEVENT
DTSTART;VALUE=DATE:20171017
DTEND;VALUE=DATE:20171021
DTSTAMP:20260420T072018
CREATED:20170517T001301Z
LAST-MODIFIED:20170517T001301Z
UID:1117-1508198400-1508543999@larsklint.com
SUMMARY:NDC Techtown 2017 - Kongsberg\, Norway
DESCRIPTION:I am doing two talks and a workshop at this inaugural event.
URL:https://larsklint.com/event/ndc-techtown-2017-kongsberg-norway/
LOCATION:Magazinet\, Kongsberg\, Chr. Augusts gate 1\, Kongsberg\, 3611\, Norway
END:VEVENT
BEGIN:VEVENT
DTSTART;VALUE=DATE:20170919
DTEND;VALUE=DATE:20170922
DTSTAMP:20260420T072018
CREATED:20170608T065520Z
LAST-MODIFIED:20170608T065520Z
UID:1131-1505779200-1506038399@larsklint.com
SUMMARY:Pluralsight Live 2017
DESCRIPTION:I am delivering a brand new talk for the inaugural Pluralsight Live event in Salt Lake City.
URL:https://larsklint.com/event/pluralsight-live-2017/
LOCATION:The Grand America Hotel\, 555 Main St\, Salt Lake City\, UT\, 84101\, United States
END:VEVENT
BEGIN:VEVENT
DTSTART;VALUE=DATE:20170814
DTEND;VALUE=DATE:20170819
DTSTAMP:20260420T072018
CREATED:20170430T231255Z
LAST-MODIFIED:20170430T231255Z
UID:1095-1502668800-1503100799@larsklint.com
SUMMARY:NDC Sydney 2017
DESCRIPTION:I am giving two talks on HoloLens and programming Cozmo the robot.
URL:https://larsklint.com/event/ndc-sydney-2017/
LOCATION:Hilton Hotel\, Sydney\, NSW\, 2000\, Australia
END:VEVENT
END:VCALENDAR