BEGIN:VCALENDAR
VERSION:2.0
PRODID:-//larsklint.com - ECPv6.9.0//NONSGML v1.0//EN
CALSCALE:GREGORIAN
METHOD:PUBLISH
X-WR-CALNAME:larsklint.com
X-ORIGINAL-URL:https://larsklint.com
X-WR-CALDESC:Events for larsklint.com
REFRESH-INTERVAL;VALUE=DURATION:PT1H
X-Robots-Tag:noindex
X-PUBLISHED-TTL:PT1H
BEGIN:VTIMEZONE
TZID:UTC
BEGIN:STANDARD
TZOFFSETFROM:+0000
TZOFFSETTO:+0000
TZNAME:UTC
DTSTART:20190101T000000
END:STANDARD
END:VTIMEZONE
BEGIN:VEVENT
DTSTART;VALUE=DATE:20230911
DTEND;VALUE=DATE:20230913
DTSTAMP:20260425T163030
CREATED:20230523T051758Z
LAST-MODIFIED:20230523T051758Z
UID:1933-1694390400-1694563199@larsklint.com
SUMMARY:YOW! Perth
DESCRIPTION:
URL:https://larsklint.com/event/yow-perth/
LOCATION:The Westin Perth\, 480 Hay Street\, Perth\, Western Australia\, 6000\, Australia
END:VEVENT
BEGIN:VEVENT
DTSTART;VALUE=DATE:20230629
DTEND;VALUE=DATE:20230630
DTSTAMP:20260425T163030
CREATED:20230414T104033Z
LAST-MODIFIED:20230414T104033Z
UID:1917-1687996800-1688083199@larsklint.com
SUMMARY:Azure Lowlands - Utrecht
DESCRIPTION:
URL:https://larsklint.com/event/azure-lowlands-utrecht/
LOCATION:Frabique – De smederij\, Westkanaaldijk 7\, Utrecht\, 3542\, Netherlands
END:VEVENT
BEGIN:VEVENT
DTSTART;VALUE=DATE:20230513
DTEND;VALUE=DATE:20230514
DTSTAMP:20260425T163030
CREATED:20230411T021614Z
LAST-MODIFIED:20230411T021614Z
UID:1914-1683936000-1684022399@larsklint.com
SUMMARY:Global Azure Bootcamp - Sydney
DESCRIPTION:
URL:https://larsklint.com/event/global-azure-bootcamp-sydney/
LOCATION:Microsoft Reactor\, 11 York Street\, Sydney\, NSW\, 2000\, Australia
END:VEVENT
BEGIN:VEVENT
DTSTART;VALUE=DATE:20230330
DTEND;VALUE=DATE:20230331
DTSTAMP:20260425T163030
CREATED:20230105T045624Z
LAST-MODIFIED:20230105T045624Z
UID:1879-1680134400-1680220799@larsklint.com
SUMMARY:Programmable - Sydney
DESCRIPTION:
URL:https://larsklint.com/event/programmable-sydney/
LOCATION:International Convention Centre (ICC) Sydney\, 14 Darling Drive\, Sydney\, NSW\, 2000\, Australia
END:VEVENT
BEGIN:VEVENT
DTSTART;VALUE=DATE:20230328
DTEND;VALUE=DATE:20230329
DTSTAMP:20260425T163030
CREATED:20230105T045445Z
LAST-MODIFIED:20230105T045445Z
UID:1877-1679961600-1680047999@larsklint.com
SUMMARY:Programmable - Melbourne
DESCRIPTION:
URL:https://larsklint.com/event/programmable-melbourne/
LOCATION:Melbourne Convention and Exhibition Centre\, 1 Convention Centre Pl\, South Wharf\, Victoria\, 3006\, Australia
END:VEVENT
BEGIN:VEVENT
DTSTART;VALUE=DATE:20230310
DTEND;VALUE=DATE:20230311
DTSTAMP:20260425T163030
CREATED:20230105T045331Z
LAST-MODIFIED:20230105T045331Z
UID:1875-1678406400-1678492799@larsklint.com
SUMMARY:Serverless Days ANZ
DESCRIPTION:
URL:https://larsklint.com/event/serverless-days-anz/
END:VEVENT
BEGIN:VEVENT
DTSTART;VALUE=DATE:20230119
DTEND;VALUE=DATE:20230121
DTSTAMP:20260425T163030
CREATED:20230105T045200Z
LAST-MODIFIED:20230105T045200Z
UID:1873-1674086400-1674259199@larsklint.com
SUMMARY:Umbraco Community Day
DESCRIPTION:
URL:https://larsklint.com/event/umbraco-community-day/
LOCATION:Virtual
END:VEVENT
BEGIN:VEVENT
DTSTART;VALUE=DATE:20221109
DTEND;VALUE=DATE:20221112
DTSTAMP:20260425T163030
CREATED:20220607T003727Z
LAST-MODIFIED:20220607T003727Z
UID:1840-1667952000-1668211199@larsklint.com
SUMMARY:Build Stuff 2022 - Lithuania
DESCRIPTION:
URL:https://larsklint.com/event/build-stuff-2022-lithuania/
LOCATION:Raddison Blue\, Konstitucijos Av. 20\, Vilnius\, LT-09308\, Lithuania
END:VEVENT
BEGIN:VEVENT
DTSTART;VALUE=DATE:20221012
DTEND;VALUE=DATE:20221015
DTSTAMP:20260425T163030
CREATED:20220704T070240Z
LAST-MODIFIED:20220704T070240Z
UID:1850-1665532800-1665791999@larsklint.com
SUMMARY:NDC Sydney 2022
DESCRIPTION:
URL:https://larsklint.com/event/ndc-sydney-2022/
LOCATION:Hilton Hotel\, Sydney\, NSW\, 2000\, Australia
END:VEVENT
BEGIN:VEVENT
DTSTART;VALUE=DATE:20220928
DTEND;VALUE=DATE:20221001
DTSTAMP:20260425T163030
CREATED:20220607T004159Z
LAST-MODIFIED:20220607T004159Z
UID:1843-1664323200-1664582399@larsklint.com
SUMMARY:NDC Oslo - Norway
DESCRIPTION:
URL:https://larsklint.com/event/ndc-oslo-norway/
LOCATION:Oslo Spektrum\, Sonja Henies plass 2\, Oslo\, 0185\, Norway
END:VEVENT
BEGIN:VEVENT
DTSTART;VALUE=DATE:20220818
DTEND;VALUE=DATE:20220819
DTSTAMP:20260425T163030
CREATED:20220714T102454Z
LAST-MODIFIED:20220723T010039Z
UID:1854-1660780800-1660867199@larsklint.com
SUMMARY:Melbourne Serverless Meetup
DESCRIPTION:
URL:https://larsklint.com/event/melbourne-serverless-meetup/
END:VEVENT
BEGIN:VEVENT
DTSTART;VALUE=DATE:20220622
DTEND;VALUE=DATE:20220625
DTSTAMP:20260425T163030
CREATED:20220607T012343Z
LAST-MODIFIED:20220607T012343Z
UID:1847-1655856000-1656115199@larsklint.com
SUMMARY:NDC Melbourne - Australia
DESCRIPTION:
URL:https://larsklint.com/event/ndc-melbourne-australia/
LOCATION:Melbourne Convention and Exhibition Centre\, 1 Convention Centre Pl\, South Wharf\, Victoria\, 3006\, Australia
END:VEVENT
BEGIN:VEVENT
DTSTART;VALUE=DATE:20220530
DTEND;VALUE=DATE:20220603
DTSTAMP:20260425T163030
CREATED:20220308T092531Z
LAST-MODIFIED:20220308T092531Z
UID:1830-1653868800-1654214399@larsklint.com
SUMMARY:NDC Copenhagen
DESCRIPTION:
URL:https://larsklint.com/event/ndc-copenhagen/
LOCATION:DGI-Byen\, Tietgensgade 65\, København V\, 1704\, Denmark
END:VEVENT
BEGIN:VEVENT
DTSTART;VALUE=DATE:20220523
DTEND;VALUE=DATE:20220526
DTSTAMP:20260425T163030
CREATED:20220308T090236Z
LAST-MODIFIED:20220308T090236Z
UID:1827-1653264000-1653523199@larsklint.com
SUMMARY:Techorama
DESCRIPTION:
URL:https://larsklint.com/event/techorama/
LOCATION:Kinepolis in Antwerp\, Groenendaallaan 394\, Antwerpen\, 2030\, Belgium
END:VEVENT
BEGIN:VEVENT
DTSTART;VALUE=DATE:20220519
DTEND;VALUE=DATE:20220521
DTSTAMP:20260425T163030
CREATED:20220201T064314Z
LAST-MODIFIED:20220201T064314Z
UID:1816-1652918400-1653091199@larsklint.com
SUMMARY:Devsum - Stockholm
DESCRIPTION:
URL:https://larsklint.com/event/devsum-stockholm/
LOCATION:Folkets Hus\, Drottninggatan 71B\, Stockholm\, 111 36\, Sweden
END:VEVENT
BEGIN:VEVENT
DTSTART;TZID=UTC:20220419T180000
DTEND;TZID=UTC:20220419T190000
DTSTAMP:20260425T163030
CREATED:20220329T003318Z
LAST-MODIFIED:20220329T003318Z
UID:1834-1650391200-1650394800@larsklint.com
SUMMARY:Melbourne Azure Nights [online]
DESCRIPTION:
URL:https://larsklint.com/event/melbourne-azure-nights-online/
END:VEVENT
BEGIN:VEVENT
DTSTART;VALUE=DATE:20220323
DTEND;VALUE=DATE:20220324
DTSTAMP:20260425T163030
CREATED:20220201T063418Z
LAST-MODIFIED:20220201T063418Z
UID:1813-1647993600-1648079999@larsklint.com
SUMMARY:dotnetdays.ro - Workshop
DESCRIPTION:I am doing a 1-day serverless Azure developer workshop\, all virtual. Join me.
URL:https://larsklint.com/event/dotnetdays-ro-workshop/
LOCATION:Virtual
END:VEVENT
BEGIN:VEVENT
DTSTART;VALUE=DATE:20201012
DTEND;VALUE=DATE:20201017
DTSTAMP:20260425T163030
CREATED:20200907T113720Z
LAST-MODIFIED:20200907T113720Z
UID:1684-1602460800-1602892799@larsklint.com
SUMMARY:NDC Sydney 2020
DESCRIPTION:
URL:https://larsklint.com/event/ndc-sydney-2020/
END:VEVENT
BEGIN:VEVENT
DTSTART;TZID=UTC:20200709T190000
DTEND;TZID=UTC:20200709T200000
DTSTAMP:20260425T163030
CREATED:20200708T014426Z
LAST-MODIFIED:20200708T014833Z
UID:1638-1594321200-1594324800@larsklint.com
SUMMARY:Using Tech in a Rapidly Changing World Panel
DESCRIPTION:
URL:https://larsklint.com/event/using-tech-in-a-rapidly-changing-world-panel/
END:VEVENT
BEGIN:VEVENT
DTSTART;VALUE=DATE:20200610
DTEND;VALUE=DATE:20200613
DTSTAMP:20260425T163030
CREATED:20200421T023751Z
LAST-MODIFIED:20200421T024148Z
UID:1510-1591747200-1592006399@larsklint.com
SUMMARY:NDC Oslo Online
DESCRIPTION:
URL:https://larsklint.com/event/ndc-oslo-online/
END:VEVENT
BEGIN:VEVENT
DTSTART;VALUE=DATE:20200512
DTEND;VALUE=DATE:20200513
DTSTAMP:20260425T163030
CREATED:20200423T014819Z
LAST-MODIFIED:20200423T014819Z
UID:1515-1589241600-1589327999@larsklint.com
SUMMARY:Dev Around The Sun - COVID-19 Fundraiser
DESCRIPTION:
URL:https://larsklint.com/event/dev-around-the-sun-covid-19-fundraiser/
END:VEVENT
BEGIN:VEVENT
DTSTART;VALUE=DATE:20200213
DTEND;VALUE=DATE:20200215
DTSTAMP:20260425T163030
CREATED:20200206T010653Z
LAST-MODIFIED:20200206T021752Z
UID:1476-1581552000-1581724799@larsklint.com
SUMMARY:Microsoft Ignite The Tour - Sydney
DESCRIPTION:
URL:https://larsklint.com/event/microsoft-ignite-the-tour-sydney/
END:VEVENT
BEGIN:VEVENT
DTSTART;VALUE=DATE:20200127
DTEND;VALUE=DATE:20200201
DTSTAMP:20260425T163030
CREATED:20191228T134144Z
LAST-MODIFIED:20191228T134144Z
UID:1428-1580083200-1580515199@larsklint.com
SUMMARY:NDC London 2020
DESCRIPTION:I am giving a talk and a 2-day Azure workshop.
URL:https://larsklint.com/event/ndc-london-2020/
LOCATION:Queen Elizabeth II Centre\, Broad Sanctuary\, Westminster\, London\, SW1P 3EE\, United Kingdom
END:VEVENT
BEGIN:VEVENT
DTSTART;VALUE=DATE:20191212
DTEND;VALUE=DATE:20191214
DTSTAMP:20260425T163030
CREATED:20190819T233501Z
LAST-MODIFIED:20190819T233501Z
UID:1364-1576108800-1576281599@larsklint.com
SUMMARY:YOW! Melbourne 2019
DESCRIPTION:
URL:https://larsklint.com/event/yow-melbourne-2019/
LOCATION:Melbourne Convention and Exhibition Centre\, 1 Convention Centre Pl\, South Wharf\, Victoria\, 3006\, Australia
END:VEVENT
BEGIN:VEVENT
DTSTART;VALUE=DATE:20191129
DTEND;VALUE=DATE:20191130
DTSTAMP:20260425T163030
CREATED:20190626T221003Z
LAST-MODIFIED:20190626T221003Z
UID:1359-1574985600-1575071999@larsklint.com
SUMMARY:T-Conf
DESCRIPTION:
URL:https://larsklint.com/event/t-conf/
LOCATION:Swinburne Hawthorn\, 425 Burwood Rd\, Hawthorn\, Victoria\, 3122\, Australia
END:VEVENT
BEGIN:VEVENT
DTSTART;VALUE=DATE:20191123
DTEND;VALUE=DATE:20191124
DTSTAMP:20260425T163030
CREATED:20191110T155121Z
LAST-MODIFIED:20191110T155121Z
UID:1413-1574467200-1574553599@larsklint.com
SUMMARY:DDD Adelaide 2019
DESCRIPTION:I am giving the keynote with a brand new talk: Rise of the Machines – Technology in Humanity.
URL:https://larsklint.com/event/ddd-adelaide-2019/
LOCATION:MOD.\, University of South Australia\, North Terrace\, adjacent Morphett Street Bridge\, Adelaide\, South Australia\, 5000\, Australia
END:VEVENT
BEGIN:VEVENT
DTSTART;VALUE=DATE:20191104
DTEND;VALUE=DATE:20191109
DTSTAMP:20260425T163030
CREATED:20190901T104919Z
LAST-MODIFIED:20190901T104919Z
UID:1393-1572825600-1573257599@larsklint.com
SUMMARY:Microsoft Ignite 2019
DESCRIPTION:
URL:https://larsklint.com/event/microsoft-ignite-2019/
LOCATION:Orange County Convention Center\, 9800 International Drive\, Orlando\, FL\, 32819\, United States
END:VEVENT
BEGIN:VEVENT
DTSTART;VALUE=DATE:20190829
DTEND;VALUE=DATE:20190830
DTSTAMP:20260425T163030
CREATED:20190626T220055Z
LAST-MODIFIED:20190626T220055Z
UID:1354-1567036800-1567123199@larsklint.com
SUMMARY:ServerlessDays Melbourne
DESCRIPTION:
URL:https://larsklint.com/event/serverlessdays-melbourne/
LOCATION:Melbourne Museum\, 11 Nicholson St\, Carlton\, Victoria\, 3053\, Australia
END:VEVENT
BEGIN:VEVENT
DTSTART;VALUE=DATE:20190810
DTEND;VALUE=DATE:20190811
DTSTAMP:20260425T163030
CREATED:20190626T215713Z
LAST-MODIFIED:20190626T215713Z
UID:1351-1565395200-1565481599@larsklint.com
SUMMARY:DDD Melbourne 2019
DESCRIPTION:
URL:https://larsklint.com/event/ddd-melbourne-2019/
LOCATION:Melbourne Convention and Exhibition Centre\, 1 Convention Centre Pl\, South Wharf\, Victoria\, 3006\, Australia
END:VEVENT
BEGIN:VEVENT
DTSTART;VALUE=DATE:20190803
DTEND;VALUE=DATE:20190804
DTSTAMP:20260425T163030
CREATED:20190626T215053Z
LAST-MODIFIED:20190626T215053Z
UID:1348-1564790400-1564876799@larsklint.com
SUMMARY:DDD Perth 2019
DESCRIPTION:
URL:https://larsklint.com/event/ddd-perth-2019/
LOCATION:Perth Convention and Exhibition Centre\, 21 Mounts Bay Road\, Perth\, Western Australia\, 6000\, Australia
END:VEVENT
END:VCALENDAR