BEGIN:VCALENDAR
VERSION:2.0
PRODID:-//larsklint.com - ECPv6.9.0//NONSGML v1.0//EN
CALSCALE:GREGORIAN
METHOD:PUBLISH
X-ORIGINAL-URL:https://larsklint.com
X-WR-CALDESC:Events for larsklint.com
REFRESH-INTERVAL;VALUE=DURATION:PT1H
X-Robots-Tag:noindex
X-PUBLISHED-TTL:PT1H
BEGIN:VTIMEZONE
TZID:UTC
BEGIN:STANDARD
TZOFFSETFROM:+0000
TZOFFSETTO:+0000
TZNAME:UTC
DTSTART:20230101T000000
END:STANDARD
END:VTIMEZONE
BEGIN:VEVENT
DTSTART;VALUE=DATE:20231018
DTEND;VALUE=DATE:20231021
DTSTAMP:20260420T063005
CREATED:20230414T104251Z
LAST-MODIFIED:20230414T104251Z
UID:1919-1697587200-1697846399@larsklint.com
SUMMARY:NDC Porto
DESCRIPTION:
URL:https://larsklint.com/event/ndc-porto/
LOCATION:Alfândega Porto Congress Centre\, RUA NOVA DA ALFÂNDEGA\, EDIFÍCIO DA ALFÂNDEGA\, Porto\, 4050-430\, Portugal
END:VEVENT
BEGIN:VEVENT
DTSTART;VALUE=DATE:20231118
DTEND;VALUE=DATE:20231119
DTSTAMP:20260420T063005
CREATED:20231002T231424Z
LAST-MODIFIED:20231002T231424Z
UID:1942-1700265600-1700351999@larsklint.com
SUMMARY:DDD Adelaide 2023
DESCRIPTION:
URL:https://larsklint.com/event/ddd-adelaide-2023/
LOCATION:University of Adelaide\, 259 North Terrace\, Adelaide\, South Australia\, 5005\, Australia
END:VEVENT
BEGIN:VEVENT
DTSTART;VALUE=DATE:20240214
DTEND;VALUE=DATE:20240217
DTSTAMP:20260420T063005
CREATED:20231114T010631Z
LAST-MODIFIED:20231114T010631Z
UID:1946-1707868800-1708127999@larsklint.com
SUMMARY:NDC Sydney 2024
DESCRIPTION:
URL:https://larsklint.com/event/ndc-sydney-2024/
LOCATION:Hilton Hotel\, Sydney\, NSW\, 2000\, Australia
END:VEVENT
BEGIN:VEVENT
DTSTART;VALUE=DATE:20240319
DTEND;VALUE=DATE:20240320
DTSTAMP:20260420T063005
CREATED:20240223T044828Z
LAST-MODIFIED:20240223T044828Z
UID:1957-1710806400-1710892799@larsklint.com
SUMMARY:Programmable - Melbourne
DESCRIPTION:
URL:https://larsklint.com/event/programmable-melbourne-2/
LOCATION:Grand Hyatt Melbourne\, 123 Collins Street\, Melbourne\, Victoria\, 3000\, Australia
END:VEVENT
BEGIN:VEVENT
DTSTART;VALUE=DATE:20240515
DTEND;VALUE=DATE:20240517
DTSTAMP:20260420T063005
CREATED:20231114T011028Z
LAST-MODIFIED:20231114T011046Z
UID:1948-1715731200-1715903999@larsklint.com
SUMMARY:/NEW - Newcastle 2024
DESCRIPTION:
URL:https://larsklint.com/event/new-newcastle-2024/
END:VEVENT
BEGIN:VEVENT
DTSTART;VALUE=DATE:20240521
DTEND;VALUE=DATE:20240522
DTSTAMP:20260420T063006
CREATED:20240223T043622Z
LAST-MODIFIED:20240223T043622Z
UID:1951-1716249600-1716335999@larsklint.com
SUMMARY:ServerlessDays ANZ - Sydney
DESCRIPTION:
URL:https://larsklint.com/event/serverlessdays-anz-sydney/
LOCATION:Wesley Conference Centre\, 220 Pitt Streeet\, Sydney\, NSW\, 2000\, Australia
END:VEVENT
BEGIN:VEVENT
DTSTART;VALUE=DATE:20240524
DTEND;VALUE=DATE:20240525
DTSTAMP:20260420T063006
CREATED:20240223T043928Z
LAST-MODIFIED:20240223T043928Z
UID:1954-1716508800-1716595199@larsklint.com
SUMMARY:ServerlessDays ANZ - Auckland
DESCRIPTION:
URL:https://larsklint.com/event/serverlessdays-anz-auckland/
LOCATION:Pullman Auckland\, Cnr Waterloo Quadrant & Princes Street\, Auckland\, 1010\, New Zealand
END:VEVENT
BEGIN:VEVENT
DTSTART;VALUE=DATE:20250211
DTEND;VALUE=DATE:20250212
DTSTAMP:20260420T063006
CREATED:20250130T040401Z
LAST-MODIFIED:20250130T040401Z
UID:1965-1739232000-1739318399@larsklint.com
SUMMARY:Adelaide Azure User Group
DESCRIPTION:
URL:https://larsklint.com/event/adelaide-azure-user-group/
END:VEVENT
BEGIN:VEVENT
DTSTART;VALUE=DATE:20250403
DTEND;VALUE=DATE:20250405
DTSTAMP:20260420T063006
CREATED:20250130T040845Z
LAST-MODIFIED:20250130T040845Z
UID:1967-1743638400-1743811199@larsklint.com
SUMMARY:LatencyConf 2025
DESCRIPTION:
URL:https://larsklint.com/event/latencyconf-2025/
LOCATION:Optus Stadium\, 333 Victoria Park Dr\, Burswood\, Western Australia\, 6100\, Australia
END:VEVENT
END:VCALENDAR