BEGIN:VCALENDAR
VERSION:2.0
PRODID:-//larsklint.com - ECPv6.9.0//NONSGML v1.0//EN
CALSCALE:GREGORIAN
METHOD:PUBLISH
X-WR-CALNAME:larsklint.com
X-ORIGINAL-URL:https://larsklint.com
X-WR-CALDESC:Events for larsklint.com
REFRESH-INTERVAL;VALUE=DURATION:PT1H
X-Robots-Tag:noindex
X-PUBLISHED-TTL:PT1H
BEGIN:VTIMEZONE
TZID:UTC
BEGIN:STANDARD
TZOFFSETFROM:+0000
TZOFFSETTO:+0000
TZNAME:UTC
DTSTART:20160101T000000
END:STANDARD
TZID:Australia/Melbourne
BEGIN:STANDARD
TZOFFSETFROM:+1100
TZOFFSETTO:+1000
TZNAME:AEST
DTSTART:20160402T160000
END:STANDARD
BEGIN:DAYLIGHT
TZOFFSETFROM:+1000
TZOFFSETTO:+1100
TZNAME:AEDT
DTSTART:20161001T160000
END:DAYLIGHT
END:VTIMEZONE
BEGIN:VEVENT
DTSTART;VALUE=DATE:20180622
DTEND;VALUE=DATE:20180623
DTSTAMP:20260420T051320
CREATED:20180529T011224Z
LAST-MODIFIED:20180529T011224Z
UID:1307-1529625600-1529711999@larsklint.com
SUMMARY:Insider Dev Tour - Sydney
DESCRIPTION:
URL:https://larsklint.com/event/insider-dev-tour-sydney/
LOCATION:Microsoft Sydney\, 1 Epping Road\, North Ryde\, New South Wales\, 2113\, Australia
END:VEVENT
BEGIN:VEVENT
DTSTART;VALUE=DATE:20180507
DTEND;VALUE=DATE:20180511
DTSTAMP:20260420T051320
CREATED:20180131T221301Z
LAST-MODIFIED:20180131T221301Z
UID:1252-1525651200-1525996799@larsklint.com
SUMMARY:NDC Minnesota 2018
DESCRIPTION:I am doing a brand new talk on ARCore development.
URL:https://larsklint.com/event/ndc-minnesota-2018/
LOCATION:Saint Paul RiverCentre\, 175 W Kellogg Blvd\, St Paul\, MN\, 55102\, United States
END:VEVENT
BEGIN:VEVENT
DTSTART;VALUE=DATE:20180504
DTEND;VALUE=DATE:20180505
DTSTAMP:20260420T051320
CREATED:20180223T001549Z
LAST-MODIFIED:20180223T001549Z
UID:1391-1525392000-1525478399@larsklint.com
SUMMARY:Stir Trek 2018
DESCRIPTION:I will be giving my extremely well received Cozmo talk\, making him to all sorts of shenanigans.
URL:https://larsklint.com/event/stir-trek-2018/
LOCATION:Nokia Camera Grip – Excel Your Mobile Photography with Lumia 1020
END:VEVENT
BEGIN:VEVENT
DTSTART;TZID=UTC:20180424T180000
DTEND;TZID=UTC:20180424T203000
DTSTAMP:20260420T051320
CREATED:20180325T221550Z
LAST-MODIFIED:20180325T221550Z
UID:1392-1524592800-1524601800@larsklint.com
SUMMARY:Melbourne Holographic - ARCore Talk
DESCRIPTION:How can augmented reality really make a difference and be more than a gimmick? How can you build captivating\, engaging and relevant augmented experiences that can reach your users without breaking the bank? \nLearn to use Google’s ARCore framework to build augmented reality apps for 100s of millions of devices. Get hands on with code and the various tools you can use to create ARCore experiences\, before we build a full simple app to run on Android.\nFind the best way to get started taking advantage of augmented experiences by leveraging the amazing technology that is ARCore.
URL:https://larsklint.com/event/melbourne-holographic-arcore-talk/
LOCATION:Hosting a New Tech Show – The Future of Tech
END:VEVENT
BEGIN:VEVENT
DTSTART;TZID=UTC:20180315T180000
DTEND;TZID=UTC:20180315T213000
DTSTAMP:20260420T051320
CREATED:20180131T223710Z
LAST-MODIFIED:20180131T223710Z
UID:1255-1521136800-1521149400@larsklint.com
SUMMARY:DDD By Night
DESCRIPTION:
URL:https://larsklint.com/event/ddd-by-night-2/
LOCATION:Page Up Office\, 10/91 William St\, Melbourne\, Victoria\, 3000\, Australia
END:VEVENT
BEGIN:VEVENT
DTSTART;VALUE=DATE:20171201
DTEND;VALUE=DATE:20171204
DTSTAMP:20260420T051320
CREATED:20170810T201356Z
LAST-MODIFIED:20170810T201356Z
UID:1164-1512086400-1512345599@larsklint.com
SUMMARY:Buzzconf 2017
DESCRIPTION:I am doing a mixed reality workshop on the Friday\, as well as a VR session on the Saturday.
URL:https://larsklint.com/event/buzzconf-2017/
END:VEVENT
BEGIN:VEVENT
DTSTART;VALUE=DATE:20171017
DTEND;VALUE=DATE:20171021
DTSTAMP:20260420T051320
CREATED:20170517T001301Z
LAST-MODIFIED:20170517T001301Z
UID:1117-1508198400-1508543999@larsklint.com
SUMMARY:NDC Techtown 2017 - Kongsberg\, Norway
DESCRIPTION:I am doing two talks and a workshop at this inaugural event.
URL:https://larsklint.com/event/ndc-techtown-2017-kongsberg-norway/
LOCATION:Magazinet\, Kongsberg\, Chr. Augusts gate 1\, Kongsberg\, 3611\, Norway
END:VEVENT
BEGIN:VEVENT
DTSTART;VALUE=DATE:20170919
DTEND;VALUE=DATE:20170922
DTSTAMP:20260420T051320
CREATED:20170608T065520Z
LAST-MODIFIED:20170608T065520Z
UID:1131-1505779200-1506038399@larsklint.com
SUMMARY:Pluralsight Live 2017
DESCRIPTION:I am delivering a brand new talk for the inaugural Pluralsight Live event in Salt Lake City.
URL:https://larsklint.com/event/pluralsight-live-2017/
LOCATION:The Grand America Hotel\, 555 Main St\, Salt Lake City\, UT\, 84101\, United States
END:VEVENT
BEGIN:VEVENT
DTSTART;VALUE=DATE:20170814
DTEND;VALUE=DATE:20170819
DTSTAMP:20260420T051320
CREATED:20170430T231255Z
LAST-MODIFIED:20170430T231255Z
UID:1095-1502668800-1503100799@larsklint.com
SUMMARY:NDC Sydney 2017
DESCRIPTION:I am giving two talks on HoloLens and programming Cozmo the robot.
URL:https://larsklint.com/event/ndc-sydney-2017/
LOCATION:Hilton Hotel\, Sydney\, NSW\, 2000\, Australia
END:VEVENT
BEGIN:VEVENT
DTSTART;VALUE=DATE:20170812
DTEND;VALUE=DATE:20170813
DTSTAMP:20260420T051320
CREATED:20170630T201839Z
LAST-MODIFIED:20170630T201839Z
UID:1150-1502496000-1502582399@larsklint.com
SUMMARY:DDD Melbourne 2017
DESCRIPTION:We are back again with a bigger and better DDD Melbourne.
URL:https://larsklint.com/event/ddd-melbourne-2017/
LOCATION:Monash University\, Caulfield Campus\, 900 Dandenong Rd\, Caulfield East\, Victoria\, 3145\, Australia
END:VEVENT
BEGIN:VEVENT
DTSTART;VALUE=DATE:20170626
DTEND;VALUE=DATE:20170628
DTSTAMP:20260420T051320
CREATED:20170410T034841Z
LAST-MODIFIED:20170410T034841Z
UID:1059-1498435200-1498607999@larsklint.com
SUMMARY:HoloLens Workshop - Skillshouse Horsens
DESCRIPTION:For more info\, see http://skillshouse.dk/kursuskatalog/730-hololens-developer-in-mixed-reality/region-DK/
URL:https://larsklint.com/event/hololens-workshop-skillshouse-horsens/
LOCATION:Skillshouse Horsens\, Grønlandsvej 3\, 3. sal\, Horsens\, 8700\, Denmark
END:VEVENT
BEGIN:VEVENT
DTSTART;VALUE=DATE:20170622
DTEND;VALUE=DATE:20170624
DTSTAMP:20260420T051320
CREATED:20170410T034653Z
LAST-MODIFIED:20170410T034653Z
UID:1056-1498089600-1498262399@larsklint.com
SUMMARY:HoloLens Workshop - Skillshouse Værløse
DESCRIPTION:For more info\, see http://skillshouse.dk/kursuskatalog/730-hololens-developer-in-mixed-reality/region-DK/
URL:https://larsklint.com/event/hololens-workshop-skillshouse-vaerlose/
LOCATION:Skillshouse Værløse\, Kirke Værløsevej 14\, Værløse\, 3500\, Denmark
END:VEVENT
BEGIN:VEVENT
DTSTART;TZID=UTC:20170619T180000
DTEND;TZID=UTC:20170619T210000
DTSTAMP:20260420T051320
CREATED:20170509T203334Z
LAST-MODIFIED:20170509T203334Z
UID:1103-1497895200-1497906000@larsklint.com
SUMMARY:CNUG - HoloLens Development
DESCRIPTION:Meetup talk on HoloLens development at Copenhagen .NET User Group.
URL:https://larsklint.com/event/cnug-hololens-development/
LOCATION:Microsoft Development Center Copenhagen\, Kanalvej 7 \, Kgs. Lyngby\, 2800\, Denmark
END:VEVENT
BEGIN:VEVENT
DTSTART;VALUE=DATE:20170619
DTEND;VALUE=DATE:20170620
DTSTAMP:20260420T051320
CREATED:20170425T230245Z
LAST-MODIFIED:20170425T230245Z
UID:1092-1497830400-1497916799@larsklint.com
SUMMARY:HoloLens Workshop - Prosa Copenhagen
DESCRIPTION:I am doing a one day HoloLens workshop for the Danish association Prosa.
URL:https://larsklint.com/event/hololens-workshop-prosa-copenhagen/
LOCATION:ADA\, Vester Farimagsgade\, Vester Farimagsgade 37A\, København V\, 1606\, Denmark
END:VEVENT
BEGIN:VEVENT
DTSTART;VALUE=DATE:20170616
DTEND;VALUE=DATE:20170617
DTSTAMP:20260420T051320
CREATED:20170501T054150Z
LAST-MODIFIED:20170501T054150Z
UID:1101-1497571200-1497657599@larsklint.com
SUMMARY:PubConf Oslo 2017
DESCRIPTION:
URL:https://larsklint.com/event/pubconf-oslo-2017/
LOCATION:The Scotsman\, Karl Johans Gate 17\, Oslo\, 0159\, Norway
END:VEVENT
BEGIN:VEVENT
DTSTART;VALUE=DATE:20170614
DTEND;VALUE=DATE:20170617
DTSTAMP:20260420T051320
CREATED:20170310T121018Z
LAST-MODIFIED:20170310T121018Z
UID:1011-1497398400-1497657599@larsklint.com
SUMMARY:NDC Oslo 2017
DESCRIPTION:
URL:https://larsklint.com/event/ndc-oslo-2017/
LOCATION:Oslo Spektrum\, Sonja Henies plass 2\, Oslo\, 0185\, Norway
END:VEVENT
BEGIN:VEVENT
DTSTART;TZID=UTC:20170613T170000
DTEND;TZID=UTC:20170613T203000
DTSTAMP:20260420T051320
CREATED:20170515T225940Z
LAST-MODIFIED:20170515T225940Z
UID:1112-1497373200-1497385800@larsklint.com
SUMMARY:NDC Community Tuesday
DESCRIPTION:NDC is coming to Oslo again! And to continue the good tradition NNUG together with NDC organizers invite you to the community Tuesday. Interested in HoloLens? Want to watch F# to JavaScript compiler in action? Then come to our track!
URL:https://larsklint.com/event/ndc-community-tuesday/
LOCATION:Oslo Spektrum\, Sonja Henies plass 2\, Oslo\, 0185\, Norway
END:VEVENT
BEGIN:VEVENT
DTSTART;VALUE=DATE:20170607
DTEND;VALUE=DATE:20170610
DTSTAMP:20260420T051320
CREATED:20170310T071007Z
LAST-MODIFIED:20170310T071007Z
UID:1008-1496793600-1497052799@larsklint.com
SUMMARY:DevSum 17
DESCRIPTION:I will be doing one workshop and a talk on HoloLens at this premier Swedish event.
URL:https://larsklint.com/event/devsum-17/
LOCATION:Münchenbryggeriet\, Torkel Knutssonsgatan 2\, Stockholm\, Sweden
END:VEVENT
BEGIN:VEVENT
DTSTART;TZID=UTC:20170525T180000
DTEND;TZID=UTC:20170525T210000
DTSTAMP:20260420T051320
CREATED:20170511T225832Z
LAST-MODIFIED:20170511T225832Z
UID:1106-1495735200-1495746000@larsklint.com
SUMMARY:Buzzconf Meetup - Virtual & Augmented Reality for fun & profit
DESCRIPTION:Augmented and virtual realities are here to stay\, but what can you build and how? Alex and Lars will unpack the most popular .Net and web framework techniques to get you up to speed on the current state of AR and VR\, as well as the ground-breaking mixed reality device – Microsoft HoloLens. \nLearn how VR got started\, is currently being used and how you can get involved and we’ll dive into holographic programming with the HoloLens development toolkit. Get a head start in this new branch of technology that keeps pushing the boundaries of user experiences. This talk is full of facts\, fantastic jokes and foolproof demos (yeah\, right!).
URL:https://larsklint.com/event/buzzconf-meetup-virtual-augmented-reality-fun-profit/
LOCATION:The Loop Bar\, 23 Meyers Pl\, Melbourne\, Victoria\, 3000\, Australia
END:VEVENT
BEGIN:VEVENT
DTSTART;VALUE=DATE:20170214
DTEND;VALUE=DATE:20170218
DTSTAMP:20260420T051320
CREATED:20161114T210616Z
LAST-MODIFIED:20161114T210616Z
UID:942-1487030400-1487375999@larsklint.com
SUMMARY:Microsoft Ignite Australia 2017
DESCRIPTION:I am doing 3 talks on VR\, HoloLens and personal development.
URL:https://larsklint.com/event/microsoft-ignite-australia-2017/
LOCATION:Gold Coast Convention Centre\, 2684-2690 Gold Coast Hwy\, Broadbeach\, Queensland\, 4218\, Australia
END:VEVENT
BEGIN:VEVENT
DTSTART;VALUE=DATE:20170116
DTEND;VALUE=DATE:20170121
DTSTAMP:20260420T051320
CREATED:20161017T220346Z
LAST-MODIFIED:20161017T220346Z
UID:929-1484524800-1484956799@larsklint.com
SUMMARY:NDC London 2017
DESCRIPTION:I will be giving a talk on HoloLens and running a workshop on HoloLens too.
URL:https://larsklint.com/event/ndc-london-2017/
END:VEVENT
BEGIN:VEVENT
DTSTART;VALUE=DATE:20161207
DTEND;VALUE=DATE:20161208
DTSTAMP:20260420T051320
CREATED:20160828T054224Z
LAST-MODIFIED:20160828T054224Z
UID:864-1481068800-1481155199@larsklint.com
SUMMARY:Code Europe - Warsaw
DESCRIPTION:Doing two talks and a workshop at this magnificent event. Biggest free dev conference in Europe.
URL:https://larsklint.com/event/code-europe-warsaw/
END:VEVENT
BEGIN:VEVENT
DTSTART;VALUE=DATE:20161205
DTEND;VALUE=DATE:20161206
DTSTAMP:20260420T051320
CREATED:20160828T053947Z
LAST-MODIFIED:20160828T053947Z
UID:860-1480896000-1480982399@larsklint.com
SUMMARY:Code Europe - Krakow
DESCRIPTION:Doing two talks and a workshop at this magnificent event. Biggest free dev conference in Europe.
URL:https://larsklint.com/event/code-europe-krakow/
END:VEVENT
BEGIN:VEVENT
DTSTART;TZID=UTC:20161124T180000
DTEND;TZID=UTC:20161124T210000
DTSTAMP:20260420T051320
CREATED:20161114T210916Z
LAST-MODIFIED:20161114T210916Z
UID:946-1480010400-1480021200@larsklint.com
SUMMARY:DDD by Night
DESCRIPTION:I am hosting this event for new and experienced speakers.
URL:https://larsklint.com/event/ddd-by-night/
LOCATION:Page Up Office\, 10/91 William St\, Melbourne\, Victoria\, 3000\, Australia
END:VEVENT
BEGIN:VEVENT
DTSTART;VALUE=DATE:20161107
DTEND;VALUE=DATE:20161112
DTSTAMP:20260420T051320
CREATED:20160714T013634Z
LAST-MODIFIED:20160714T013634Z
UID:810-1478476800-1478908799@larsklint.com
SUMMARY:Øredev Developer Conference
DESCRIPTION:I will be doing two sessions at Øredev on HoloLens development and adaptive UX for Windows 10.
URL:https://larsklint.com/event/oredev-developer-conference/
LOCATION:Slagthuset\, Exhibition & Conference Center\, Malmo\, Sweden
END:VEVENT
BEGIN:VEVENT
DTSTART;TZID=UTC:20160907T183000
DTEND;TZID=UTC:20160907T200000
DTSTAMP:20260420T051320
CREATED:20160906T045009Z
LAST-MODIFIED:20160906T045009Z
UID:875-1473273000-1473278400@larsklint.com
SUMMARY:Melbourne Mobile - HoloLens
DESCRIPTION:
URL:https://larsklint.com/event/melbourne-mobile-hololens/
LOCATION:York Butter Factory\, Melbourne\, 3000\, Australia
END:VEVENT
BEGIN:VEVENT
DTSTART;VALUE=DATE:20160827
DTEND;VALUE=DATE:20160828
DTSTAMP:20260420T051320
CREATED:20160723T095211Z
LAST-MODIFIED:20160723T095211Z
UID:818-1472256000-1472342399@larsklint.com
SUMMARY:DDD Perth 2016
DESCRIPTION:The second edition of DDD Perth is on\, and I have been fortunate to be invited to do the locknote for the day.
URL:https://larsklint.com/event/ddd-perth-2016/
LOCATION:Mercure Perth\, 10 Irwin St\, Perth\, Western Australia\, 6000\, Australia
END:VEVENT
BEGIN:VEVENT
DTSTART;VALUE=DATE:20160813
DTEND;VALUE=DATE:20160814
DTSTAMP:20260420T051320
CREATED:20160420T024019Z
LAST-MODIFIED:20160420T024019Z
UID:748-1471046400-1471132799@larsklint.com
SUMMARY:DDD Melbourne 7
DESCRIPTION:DDD Melbourne is back and the team of volunteers are at it to give you a day of amazing content as voted on by the community.
URL:https://larsklint.com/event/ddd-melbourne-7/
LOCATION:TBA
END:VEVENT
BEGIN:VEVENT
DTSTART;TZID=UTC:20160805T180000
DTEND;TZID=UTC:20160805T220000
DTSTAMP:20260420T051320
CREATED:20160719T110442Z
LAST-MODIFIED:20160719T110442Z
UID:812-1470420000-1470434400@larsklint.com
SUMMARY:Pubconf - NDC Sydney 2016
DESCRIPTION:
URL:https://larsklint.com/event/pubconf-ndc-sydney-2016/
LOCATION:Hotel CBD\, 52 King Street\, Sydney\, New South Wales\, 2000\, Australia
END:VEVENT
BEGIN:VEVENT
DTSTART;VALUE=DATE:20160801
DTEND;VALUE=DATE:20160806
DTSTAMP:20260420T051320
CREATED:20160517T140239Z
LAST-MODIFIED:20160517T140239Z
UID:782-1470009600-1470441599@larsklint.com
SUMMARY:NDC Sydney 2016
DESCRIPTION:The inaugural NDC Sydney event. Come see the best speakers in the industry.
URL:https://larsklint.com/event/ndc-sydney-2016/
LOCATION:Hilton Hotel\, Sydney\, NSW\, 2000\, Australia
END:VEVENT
END:VCALENDAR