BEGIN:VCALENDAR
VERSION:2.0
PRODID:-//larsklint.com - ECPv6.9.0//NONSGML v1.0//EN
CALSCALE:GREGORIAN
METHOD:PUBLISH
X-WR-CALNAME:larsklint.com
X-ORIGINAL-URL:https://larsklint.com
X-WR-CALDESC:Events for larsklint.com
REFRESH-INTERVAL;VALUE=DURATION:PT1H
X-Robots-Tag:noindex
X-PUBLISHED-TTL:PT1H
BEGIN:VTIMEZONE
TZID:UTC
BEGIN:STANDARD
TZOFFSETFROM:+0000
TZOFFSETTO:+0000
TZNAME:UTC
DTSTART:20160101T000000
END:STANDARD
TZID:Europe/Paris
BEGIN:DAYLIGHT
TZOFFSETFROM:+0100
TZOFFSETTO:+0200
TZNAME:CEST
DTSTART:20160327T010000
END:DAYLIGHT
BEGIN:STANDARD
TZOFFSETFROM:+0200
TZOFFSETTO:+0100
TZNAME:CET
DTSTART:20161030T010000
END:STANDARD
END:VTIMEZONE
BEGIN:VEVENT
DTSTART;VALUE=DATE:20160723
DTEND;VALUE=DATE:20160724
DTSTAMP:20260420T110136
CREATED:20160723T094910Z
LAST-MODIFIED:20160723T094910Z
UID:816-1469232000-1469318399@larsklint.com
SUMMARY:Girl Geek Academy - #shehacks
DESCRIPTION:I am mentoring groups of hackers\, hipsters and hustlers for the weekend.
URL:https://larsklint.com/event/girl-geek-academy-shehacks/
LOCATION:General Assembly – Melbourne\, 45 William Street\, Melbourne\, Victoria\, 3000\, Australia
END:VEVENT
BEGIN:VEVENT
DTSTART;VALUE=DATE:20160611
DTEND;VALUE=DATE:20160612
DTSTAMP:20260420T110136
CREATED:20160518T113254Z
LAST-MODIFIED:20160518T113254Z
UID:784-1465603200-1465689599@larsklint.com
SUMMARY:PubConf - Oslo
DESCRIPTION:I am giving a 5 minute entertaining\, but serious\, talk on the perils of kittens and virtual reality.
URL:https://larsklint.com/event/pubconf-oslo/
LOCATION:The Scotsman\, Karl Johans Gate 17\, Oslo\, 0159\, Norway
END:VEVENT
BEGIN:VEVENT
DTSTART;VALUE=DATE:20160608
DTEND;VALUE=DATE:20160611
DTSTAMP:20260420T110136
CREATED:20160420T002154Z
LAST-MODIFIED:20160420T002154Z
UID:746-1465344000-1465603199@larsklint.com
SUMMARY:NDC Oslo 2016
DESCRIPTION:
URL:https://larsklint.com/event/ndc-oslo-2016/
LOCATION:Oslo Spektrum\, Sonja Henies plass 2\, Oslo\, 0185\, Norway
END:VEVENT
BEGIN:VEVENT
DTSTART;VALUE=DATE:20160528
DTEND;VALUE=DATE:20160529
DTSTAMP:20260420T110136
CREATED:20160505T121120Z
LAST-MODIFIED:20160505T121120Z
UID:765-1464393600-1464479999@larsklint.com
SUMMARY:DDD Sydney
DESCRIPTION:I will be speaking on HoloLens development in Sydney.
URL:https://larsklint.com/event/ddd-sydney/
LOCATION:UTS Sydney\, 15 Broadway\, Ultimo\, New South Wales\, 2007\, Australia
END:VEVENT
BEGIN:VEVENT
DTSTART;VALUE=DATE:20160509
DTEND;VALUE=DATE:20160511
DTSTAMP:20260420T110137
CREATED:20160420T001952Z
LAST-MODIFIED:20160420T001952Z
UID:744-1462752000-1462924799@larsklint.com
SUMMARY:Workshop – The Power of Windows 10
DESCRIPTION:I am teaching a workshop on getting started developing apps for Windows 10. For more info: http://programutvikling.no/en/course/the-power-of-windows-10/
URL:https://larsklint.com/event/workshop-power-windows-10/
LOCATION:IT Fornebu (Oslo)\, Martin Lingesvei 17\, Snarøya\, 1364\, Norway
END:VEVENT
BEGIN:VEVENT
DTSTART;VALUE=DATE:20160503
DTEND;VALUE=DATE:20160505
DTSTAMP:20260420T110137
CREATED:20160419T232651Z
LAST-MODIFIED:20160419T232651Z
UID:741-1462233600-1462406399@larsklint.com
SUMMARY:Techorama 2016
DESCRIPTION:I am doing two talks at Techorama: Holographic Programming and Building Apps for All Screen Sizes Using Adaptive UX
URL:https://larsklint.com/event/techorama-2016/
LOCATION:Utopolis Mechelen\, Spuibeekstraat 5\, Mechelen\, 2800\, Belgium
END:VEVENT
END:VCALENDAR